BEGIN:VCALENDAR
VERSION:2.0
PRODID:icalendar-ruby
CALSCALE:GREGORIAN
METHOD:PUBLISH
BEGIN:VEVENT
DTSTAMP:20260420T140506Z
UID:77-1972617@enoreebaptist.tithelysetup2.com
DTSTART:20260729T234500Z
DTEND:20260730T003000Z
CLASS:PUBLIC
CREATED:20260420T094128
DESCRIPTION:EBC Choir Rehearsal
LAST-MODIFIED:20260420T094128
LOCATION:Choir Rehearsal Room (Building B)
SUMMARY:Worship Celebration Choir Rehearsal
URL;VALUE=URI:https://www.enoreebaptistchurch.com/events/worship-celebratio
 n-choir-rehearsal/2026-07-29
ATTACH;FILENAME=Choir Rehearsal Web Events.png;FMTTYPE=image/png:https://dq
 5pwpg1q8ru0.cloudfront.net/2024/03/19/00/02/43/1be69ef5-f87e-41fb-b1bc-96b
 d396b9d62/Choir%20Rehearsal%20Web%20Events.png
END:VEVENT
END:VCALENDAR
